BEGIN:VCALENDAR
VERSION:2.0
PRODID:-// - ECPv6.14.1//NONSGML v1.0//EN
CALSCALE:GREGORIAN
METHOD:PUBLISH
X-ORIGINAL-URL:https://innlocal.eu
X-WR-CALDESC:Events for 
REFRESH-INTERVAL;VALUE=DURATION:PT1H
X-Robots-Tag:noindex
X-PUBLISHED-TTL:PT1H
BEGIN:VTIMEZONE
TZID:Europe/Prague
BEGIN:DAYLIGHT
TZOFFSETFROM:+0100
TZOFFSETTO:+0200
TZNAME:CEST
DTSTART:20230326T010000
END:DAYLIGHT
BEGIN:STANDARD
TZOFFSETFROM:+0200
TZOFFSETTO:+0100
TZNAME:CET
DTSTART:20231029T010000
END:STANDARD
BEGIN:DAYLIGHT
TZOFFSETFROM:+0100
TZOFFSETTO:+0200
TZNAME:CEST
DTSTART:20240331T010000
END:DAYLIGHT
BEGIN:STANDARD
TZOFFSETFROM:+0200
TZOFFSETTO:+0100
TZNAME:CET
DTSTART:20241027T010000
END:STANDARD
END:VTIMEZONE
BEGIN:VEVENT
DTSTART;TZID=Europe/Prague:20240708T110000
DTEND;TZID=Europe/Prague:20240708T150000
DTSTAMP:20260423T184617
CREATED:20240702T093934Z
LAST-MODIFIED:20240823T050248Z
UID:333-1720436400-1720450800@innlocal.eu
SUMMARY:Upcoming Webinar: The Challenges of Innovation Culture in Portuguese Municipalities
DESCRIPTION:Join us on July 8th at 11:00 AM for a thought-provoking webinar hosted by Fundação FEFAL. This event will delve into the challenges and opportunities associated with fostering a culture of innovation within Portuguese municipalities. Featuring insights from speakers Miguel Oliveira\, a specialist in Management\, Quality\, and Organizational Innovation from the University of Aveiro\, and Paulo Peixoto\, a researcher and Vice-Rector for Pedagogical Innovation at the University of Coimbra\, this webinar promises to be an enriching experience for all attendees. \nFree registration is available\, and the webinar will be conducted via Zoom. Don’t miss this chance to enhance your understanding of innovation in local governance! \nZoom link: https://fefal-pt.zoom.us/j/89910882357?pwd=HqmNpb9wZbiSLo7CDgoQFAL0z94ulw.1 \nIf necessary:\nSession ID : 89910882357\nPassword: FEFAL#24
URL:https://innlocal.eu/events/upcoming-webinar-the-challenges-of-innovation-culture-in-portuguese-municipalities/
ATTACH;FMTTYPE=image/jpeg:https://innlocal.eu/wp-content/uploads/2024/07/webinar2.jpeg
END:VEVENT
BEGIN:VEVENT
DTSTART;TZID=Europe/Prague:20231212T080000
DTEND;TZID=Europe/Prague:20231213T170000
DTSTAMP:20260423T184617
CREATED:20240708T054937Z
LAST-MODIFIED:20240823T050307Z
UID:361-1702368000-1702486800@innlocal.eu
SUMMARY:The kick-off meeting of the INNLocal project
DESCRIPTION:The kick-off meeting of the INNLocal project took place in Mirandela\, Portugal\, on 12 and 13 December 2023.
URL:https://innlocal.eu/events/the-kick-off-meeting-of-the-innlocal-project/
ATTACH;FMTTYPE=image/jpeg:https://innlocal.eu/wp-content/uploads/2024/02/kick-off-meeting.jpg
END:VEVENT
END:VCALENDAR